BEGIN:VCALENDAR
VERSION:2.0
PRODID:-//Western New York Rose Society - ECPv6.14.2//NONSGML v1.0//EN
CALSCALE:GREGORIAN
METHOD:PUBLISH
X-WR-CALNAME:Western New York Rose Society
X-ORIGINAL-URL:https://wnyrosesociety.net
X-WR-CALDESC:Events for Western New York Rose Society
REFRESH-INTERVAL;VALUE=DURATION:PT1H
X-Robots-Tag:noindex
X-PUBLISHED-TTL:PT1H
BEGIN:VTIMEZONE
TZID:America/New_York
BEGIN:DAYLIGHT
TZOFFSETFROM:-0500
TZOFFSETTO:-0400
TZNAME:EDT
DTSTART:20160313T070000
END:DAYLIGHT
BEGIN:STANDARD
TZOFFSETFROM:-0400
TZOFFSETTO:-0500
TZNAME:EST
DTSTART:20161106T060000
END:STANDARD
BEGIN:DAYLIGHT
TZOFFSETFROM:-0500
TZOFFSETTO:-0400
TZNAME:EDT
DTSTART:20170312T070000
END:DAYLIGHT
BEGIN:STANDARD
TZOFFSETFROM:-0400
TZOFFSETTO:-0500
TZNAME:EST
DTSTART:20171105T060000
END:STANDARD
BEGIN:DAYLIGHT
TZOFFSETFROM:-0500
TZOFFSETTO:-0400
TZNAME:EDT
DTSTART:20180311T070000
END:DAYLIGHT
BEGIN:STANDARD
TZOFFSETFROM:-0400
TZOFFSETTO:-0500
TZNAME:EST
DTSTART:20181104T060000
END:STANDARD
END:VTIMEZONE
BEGIN:VEVENT
DTSTART;TZID=America/New_York:20180117T190000
DTEND;TZID=America/New_York:20180117T210000
DTSTAMP:20260420T215113
CREATED:20180128T141854Z
LAST-MODIFIED:20180128T141854Z
UID:3420-1516215600-1516222800@wnyrosesociety.net
SUMMARY:January General Meeting
DESCRIPTION:Succulent Workshop presented by Julie Hughes\, Horticulture Instructor at McKinley High School
URL:https://wnyrosesociety.net/event/january-general-meeting/
LOCATION:St. Stephens-Bethlehem United Church of Christ\, 750 Wehrle Drive\, Williamsville\, NY\, 14225\, United States
CATEGORIES:Monthly Meetings
END:VEVENT
BEGIN:VEVENT
DTSTART;TZID=America/New_York:20171206T080000
DTEND;TZID=America/New_York:20171206T170000
DTSTAMP:20260420T215113
CREATED:20170316T234730Z
LAST-MODIFIED:20170401T193915Z
UID:3335-1512547200-1512579600@wnyrosesociety.net
SUMMARY:Holiday Party
DESCRIPTION:It’s out annual Holiday Party! Bring a dish to pass! \nBring a gift with a minimum value of $15 if you would like to join in the gift exchange.  Participation is optional.
URL:https://wnyrosesociety.net/event/holiday-party/
LOCATION:St. Stephens-Bethlehem United Church of Christ\, 750 Wehrle Drive\, Williamsville\, NY\, 14225\, United States
CATEGORIES:Monthly Meetings
END:VEVENT
BEGIN:VEVENT
DTSTART;TZID=America/New_York:20171129T190000
DTEND;TZID=America/New_York:20171129T210000
DTSTAMP:20260420T215113
CREATED:20170401T001214Z
LAST-MODIFIED:20170401T190956Z
UID:3390-1511982000-1511989200@wnyrosesociety.net
SUMMARY:Board Meeting
DESCRIPTION:
URL:https://wnyrosesociety.net/event/board-meeting-8/
LOCATION:NY
CATEGORIES:Board Meetings
END:VEVENT
BEGIN:VEVENT
DTSTART;TZID=America/New_York:20171115T190000
DTEND;TZID=America/New_York:20171115T210000
DTSTAMP:20260420T215113
CREATED:20170316T234639Z
LAST-MODIFIED:20170401T193649Z
UID:3333-1510772400-1510779600@wnyrosesociety.net
SUMMARY:Monthly Meeting
DESCRIPTION:“Garden Design” presented by Peter BonSey\,  Celebrity Garden Designer & Author \n 
URL:https://wnyrosesociety.net/event/monthly-meeting-7/
LOCATION:St. Stephens-Bethlehem United Church of Christ\, 750 Wehrle Drive\, Williamsville\, NY\, 14225\, United States
CATEGORIES:Monthly Meetings
END:VEVENT
BEGIN:VEVENT
DTSTART;TZID=America/New_York:20171025T190000
DTEND;TZID=America/New_York:20171025T210000
DTSTAMP:20260420T215113
CREATED:20170401T001025Z
LAST-MODIFIED:20170401T191156Z
UID:3388-1508958000-1508965200@wnyrosesociety.net
SUMMARY:Board Meeting
DESCRIPTION:
URL:https://wnyrosesociety.net/event/board-meeting-7/
LOCATION:NY
CATEGORIES:Board Meetings
END:VEVENT
BEGIN:VEVENT
DTSTART;TZID=America/New_York:20171018T190000
DTEND;TZID=America/New_York:20171018T210000
DTSTAMP:20260420T215113
CREATED:20170316T234554Z
LAST-MODIFIED:20170401T193631Z
UID:3331-1508353200-1508360400@wnyrosesociety.net
SUMMARY:Monthly Meeting
DESCRIPTION:“Winterizing Your Garden & Preparing for Next Year“\, presented by Ron Callea\, Horticulture Instructor \, McKinley HS
URL:https://wnyrosesociety.net/event/monthly-meeting-6/
LOCATION:St. Stephens-Bethlehem United Church of Christ\, 750 Wehrle Drive\, Williamsville\, NY\, 14225\, United States
CATEGORIES:Monthly Meetings
END:VEVENT
BEGIN:VEVENT
DTSTART;TZID=America/New_York:20170927T190000
DTEND;TZID=America/New_York:20170927T210000
DTSTAMP:20260420T215113
CREATED:20170401T000820Z
LAST-MODIFIED:20170401T191433Z
UID:3386-1506538800-1506546000@wnyrosesociety.net
SUMMARY:Board Meeting
DESCRIPTION:
URL:https://wnyrosesociety.net/event/board-meeting-6/
LOCATION:NY
CATEGORIES:Board Meetings
END:VEVENT
BEGIN:VEVENT
DTSTART;TZID=America/New_York:20170920T190000
DTEND;TZID=America/New_York:20170920T210000
DTSTAMP:20260420T215113
CREATED:20170316T234507Z
LAST-MODIFIED:20170401T193556Z
UID:3329-1505934000-1505941200@wnyrosesociety.net
SUMMARY:Monthly Meeting
DESCRIPTION:Educational Rose Show – Bring your roses to display in a rose show setting.  Listen as a show judge explains the roses strong points and weak points.  In a regular show you would not hear the judges comments.  Come and listen to what they look for in a “Queen of Show’
URL:https://wnyrosesociety.net/event/monthly-meeting-5/
LOCATION:St. Stephens-Bethlehem United Church of Christ\, 750 Wehrle Drive\, Williamsville\, NY\, 14225\, United States
CATEGORIES:Monthly Meetings
END:VEVENT
BEGIN:VEVENT
DTSTART;VALUE=DATE:20170906
DTEND;VALUE=DATE:20170911
DTSTAMP:20260420T215113
CREATED:20170317T000953Z
LAST-MODIFIED:20170401T192147Z
UID:3340-1504656000-1505087999@wnyrosesociety.net
SUMMARY:NY District Convention and Rose Show
DESCRIPTION:
URL:https://wnyrosesociety.net/event/ny-district-convention-rose-show/
LOCATION:Gettysburg\, PA\, United States
CATEGORIES:Special Events
END:VEVENT
BEGIN:VEVENT
DTSTART;TZID=America/New_York:20170830T190000
DTEND;TZID=America/New_York:20170830T210000
DTSTAMP:20260420T215113
CREATED:20170401T000541Z
LAST-MODIFIED:20170401T192153Z
UID:3384-1504119600-1504126800@wnyrosesociety.net
SUMMARY:Board Meeting
DESCRIPTION:
URL:https://wnyrosesociety.net/event/board-meeting-5/
LOCATION:NY
CATEGORIES:Board Meetings
END:VEVENT
BEGIN:VEVENT
DTSTART;TZID=America/New_York:20170816T180000
DTEND;TZID=America/New_York:20170816T200000
DTSTAMP:20260420T215113
CREATED:20170316T234400Z
LAST-MODIFIED:20170401T193513Z
UID:3327-1502906400-1502913600@wnyrosesociety.net
SUMMARY:Monthly Meeting
DESCRIPTION:Delaware Park Rose Garden – After a brief business meeting take a self guided tour of the Rose Garden.  NOTE:  meeting starts a 6:00 PM
URL:https://wnyrosesociety.net/event/monthly-meeting-4/
LOCATION:Delaware Park Rose Garden\, Meadow Drive\, Buffalo\, NY\, 14214
CATEGORIES:Monthly Meetings
END:VEVENT
BEGIN:VEVENT
DTSTART;TZID=America/New_York:20170805T080000
DTEND;TZID=America/New_York:20170805T170000
DTSTAMP:20260420T215113
CREATED:20170316T230700Z
LAST-MODIFIED:20170401T000436Z
UID:3297-1501920000-1501952400@wnyrosesociety.net
SUMMARY:Annual Picnic
DESCRIPTION:We will be at Shelter #4
URL:https://wnyrosesociety.net/event/annual-picnic/
LOCATION:Elma Meadows Park\, Rice Rd - Shelter 4\, Elma\, NY\, 14059\, United States
CATEGORIES:Special Events
END:VEVENT
BEGIN:VEVENT
DTSTART;TZID=America/New_York:20170726T190000
DTEND;TZID=America/New_York:20170726T210000
DTSTAMP:20260420T215113
CREATED:20170401T000324Z
LAST-MODIFIED:20170401T192346Z
UID:3382-1501095600-1501102800@wnyrosesociety.net
SUMMARY:Board Meeting
DESCRIPTION:
URL:https://wnyrosesociety.net/event/board-meeting-4/
LOCATION:NY
CATEGORIES:Board Meetings
END:VEVENT
BEGIN:VEVENT
DTSTART;TZID=America/New_York:20170719T190000
DTEND;TZID=America/New_York:20170719T210000
DTSTAMP:20260420T215113
CREATED:20170316T233639Z
LAST-MODIFIED:20170401T192537Z
UID:3325-1500490800-1500498000@wnyrosesociety.net
SUMMARY:Monthly Meeting
DESCRIPTION:Rose Show Awards Presentations    Awards from the June 17th Rose Show will be presented to the winners
URL:https://wnyrosesociety.net/event/monthly-meeting-3/
LOCATION:St. Stephens-Bethlehem United Church of Christ\, 750 Wehrle Drive\, Williamsville\, NY\, 14225\, United States
CATEGORIES:Monthly Meetings
END:VEVENT
BEGIN:VEVENT
DTSTART;TZID=America/New_York:20170628T190000
DTEND;TZID=America/New_York:20170628T210000
DTSTAMP:20260420T215113
CREATED:20170331T235856Z
LAST-MODIFIED:20170401T000425Z
UID:3378-1498676400-1498683600@wnyrosesociety.net
SUMMARY:Board Meeting
DESCRIPTION:
URL:https://wnyrosesociety.net/event/board-meeting-3/
LOCATION:NY
CATEGORIES:Board Meetings
END:VEVENT
BEGIN:VEVENT
DTSTART;TZID=America/New_York:20170617T130000
DTEND;TZID=America/New_York:20170617T170000
DTSTAMP:20260420T215113
CREATED:20170316T230338Z
LAST-MODIFIED:20170401T000353Z
UID:3293-1497704400-1497718800@wnyrosesociety.net
SUMMARY:WNY Rose Society Annual Rose Show
DESCRIPTION:
URL:https://wnyrosesociety.net/event/wny-rose-society-annual-rose-show/
LOCATION:Walden Galleria\, 1 Walden Galleria\, Buffalo\, NY\, 14225\, United States
CATEGORIES:Special Events
END:VEVENT
BEGIN:VEVENT
DTSTART;TZID=America/New_York:20170614T190000
DTEND;TZID=America/New_York:20170614T210000
DTSTAMP:20260420T215113
CREATED:20170324T010921Z
LAST-MODIFIED:20170401T192704Z
UID:3344-1497466800-1497474000@wnyrosesociety.net
SUMMARY:Monthly Meeting
DESCRIPTION:How to Exhibit Roses for Show presented by Steve Styn
URL:https://wnyrosesociety.net/event/monthly-meeting-8/
LOCATION:St. Stephens-Bethlehem United Church of Christ\, 750 Wehrle Drive\, Williamsville\, NY\, 14225\, United States
CATEGORIES:Monthly Meetings
END:VEVENT
BEGIN:VEVENT
DTSTART;TZID=America/New_York:20170531T190000
DTEND;TZID=America/New_York:20170531T210000
DTSTAMP:20260420T215113
CREATED:20170331T235346Z
LAST-MODIFIED:20170401T192910Z
UID:3377-1496257200-1496264400@wnyrosesociety.net
SUMMARY:Board Meeting
DESCRIPTION:
URL:https://wnyrosesociety.net/event/board-meeting-2/
LOCATION:NY
CATEGORIES:Board Meetings
END:VEVENT
BEGIN:VEVENT
DTSTART;TZID=America/New_York:20170517T190000
DTEND;TZID=America/New_York:20170517T210000
DTSTAMP:20260420T215113
CREATED:20170316T233242Z
LAST-MODIFIED:20170401T193127Z
UID:3323-1495047600-1495054800@wnyrosesociety.net
SUMMARY:Monthly Meeting
DESCRIPTION:Fresh Cut Flower Demo by Julie Hughes\, Horticulture instructor\, McKinley HS \nAlso Silent Auction – Bring any unwanted usable gardening related items to put up in our auction.  We will have silent bids taken during the meeting. Winners announced at the end of the meeting.
URL:https://wnyrosesociety.net/event/monthly-meeting-2/
LOCATION:St. Stephens-Bethlehem United Church of Christ\, 750 Wehrle Drive\, Williamsville\, NY\, 14225\, United States
CATEGORIES:Monthly Meetings
END:VEVENT
BEGIN:VEVENT
DTSTART;TZID=America/New_York:20170426T190000
DTEND;TZID=America/New_York:20170426T210000
DTSTAMP:20260420T215113
CREATED:20170331T232225Z
LAST-MODIFIED:20170401T000254Z
UID:3369-1493233200-1493240400@wnyrosesociety.net
SUMMARY:Board Meeting
DESCRIPTION:
URL:https://wnyrosesociety.net/event/board-meeting/
LOCATION:NY
CATEGORIES:Board Meetings
END:VEVENT
BEGIN:VEVENT
DTSTART;TZID=America/New_York:20170419T190000
DTEND;TZID=America/New_York:20170419T210000
DTSTAMP:20260420T215113
CREATED:20170316T232605Z
LAST-MODIFIED:20170421T012829Z
UID:3318-1492628400-1492635600@wnyrosesociety.net
SUMMARY:Monthly Meeting
DESCRIPTION:“Fertilizing & Spraying” presented by David Clark\, CNLP (Horticulture Instructor-Botanical Gardens).   www.DavidClarkWNY.com  www.greatgardenspeakers.com
URL:https://wnyrosesociety.net/event/monthly-meeting/
LOCATION:St. Stephens-Bethlehem United Church of Christ\, 750 Wehrle Drive\, Williamsville\, NY\, 14225\, United States
CATEGORIES:Monthly Meetings
END:VEVENT
BEGIN:VEVENT
DTSTART;TZID=America/New_York:20170402T120000
DTEND;TZID=America/New_York:20170402T150000
DTSTAMP:20260420T215113
CREATED:20170316T231149Z
LAST-MODIFIED:20170401T000337Z
UID:3301-1491134400-1491145200@wnyrosesociety.net
SUMMARY:Spring Banquet
DESCRIPTION:Tickets can be purchased from Beverly Wright
URL:https://wnyrosesociety.net/event/spring-banquet/
LOCATION:NY
CATEGORIES:Special Events
END:VEVENT
BEGIN:VEVENT
DTSTART;TZID=America/New_York:20170323T100000
DTEND;TZID=America/New_York:20170326T170000
DTSTAMP:20260420T215113
CREATED:20170316T232007Z
LAST-MODIFIED:20170401T000320Z
UID:3308-1490263200-1490547600@wnyrosesociety.net
SUMMARY:Plantasia 2017
DESCRIPTION:Stop out and visit the Rose Society at Plantasia!  We will be there to take your rose questions.  Check out our organic flower fertilizer.
URL:https://wnyrosesociety.net/event/plantasia-2017/
LOCATION:NY
CATEGORIES:Special Events
END:VEVENT
BEGIN:VEVENT
DTSTART;TZID=America/New_York:20170215T190000
DTEND;TZID=America/New_York:20170215T210000
DTSTAMP:20260420T215113
CREATED:20170214T015020Z
LAST-MODIFIED:20170214T015020Z
UID:3276-1487185200-1487192400@wnyrosesociety.net
SUMMARY:February Meeting
DESCRIPTION:“Flower Photography” presented by Jennifer Scott
URL:https://wnyrosesociety.net/event/february-meeting/
LOCATION:St. Stephens-Bethlehem United Church of Christ\, 750 Wehrle Drive\, Williamsville\, NY\, 14225\, United States
CATEGORIES:Monthly Meetings
END:VEVENT
BEGIN:VEVENT
DTSTART;TZID=America/New_York:20160919T190000
DTEND;TZID=America/New_York:20160919T210000
DTSTAMP:20260420T215113
CREATED:20160819T194529Z
LAST-MODIFIED:20160819T194611Z
UID:3240-1474311600-1474318800@wnyrosesociety.net
SUMMARY:Educational Rose Show
DESCRIPTION:Judged by Gene Noto
URL:https://wnyrosesociety.net/event/educational-rose-show/
LOCATION:St. Stephens-Bethlehem United Church of Christ\, 750 Wehrle Drive\, Williamsville\, NY\, 14225\, United States
CATEGORIES:Monthly Meetings
END:VEVENT
BEGIN:VEVENT
DTSTART;TZID=America/New_York:20160826T090000
DTEND;TZID=America/New_York:20160828T120000
DTSTAMP:20260420T215113
CREATED:20160819T193702Z
LAST-MODIFIED:20160819T193702Z
UID:3235-1472202000-1472385600@wnyrosesociety.net
SUMMARY:ARS New York District Convention
DESCRIPTION:
URL:https://wnyrosesociety.net/event/ars-new-york-district-convention/
LOCATION:Craftsman Inn\, 7300 East Genesee St.\,  Fayetteville\, NY\, 13066\, United States
CATEGORIES:Special Events
ATTACH;FMTTYPE=image/jpeg:https://wnyrosesociety.net/wnyrs/wp-content/uploads/2016/08/bg-1-139629.jpeg
END:VEVENT
BEGIN:VEVENT
DTSTART;TZID=America/New_York:20160817T180000
DTEND;TZID=America/New_York:20160817T200000
DTSTAMP:20260420T215113
CREATED:20160806T033724Z
LAST-MODIFIED:20160806T035134Z
UID:3221-1471456800-1471464000@wnyrosesociety.net
SUMMARY:Delaware Park Rose Garden
DESCRIPTION:Brief business meeting in the park and self guided tour.
URL:https://wnyrosesociety.net/event/delaware-park-rose-garden/
LOCATION:Delaware Park Rose Garden\, Meadow Drive\, Buffalo\, NY\, 14214
CATEGORIES:Monthly Meetings
ATTACH;FMTTYPE=image/jpeg:https://wnyrosesociety.net/wnyrs/wp-content/uploads/2016/06/IMG_0113-e1467839856202.jpg
END:VEVENT
BEGIN:VEVENT
DTSTART;TZID=America/New_York:20160806T150000
DTEND;TZID=America/New_York:20160806T210000
DTSTAMP:20260420T215113
CREATED:20160806T032711Z
LAST-MODIFIED:20160806T034703Z
UID:3215-1470495600-1470517200@wnyrosesociety.net
SUMMARY:WNYRS Annual Picnic
DESCRIPTION:Come and join the fun at Shelter #4!
URL:https://wnyrosesociety.net/event/wnyrs-annual-picnic/
LOCATION:Elma Meadows Park\, Rice Rd - Shelter 4\, Elma\, NY\, 14059\, United States
CATEGORIES:Special Events
ATTACH;FMTTYPE=image/png:https://wnyrosesociety.net/wnyrs/wp-content/uploads/2016/08/Capture.png
END:VEVENT
BEGIN:VEVENT
DTSTART;TZID=America/New_York:20160729T080000
DTEND;TZID=America/New_York:20160731T210000
DTSTAMP:20260420T215113
CREATED:20160707T223841Z
LAST-MODIFIED:20160707T223841Z
UID:3196-1469779200-1469998800@wnyrosesociety.net
SUMMARY:ARS National Miniature Convention
DESCRIPTION:
URL:https://wnyrosesociety.net/event/ars-national-miniature-convention/
LOCATION:York Area Rose Society\, Grantville\, PA\, United States
CATEGORIES:Special Events
END:VEVENT
BEGIN:VEVENT
DTSTART;TZID=America/New_York:20160720T190000
DTEND;TZID=America/New_York:20160720T210000
DTSTAMP:20260420T215113
CREATED:20160707T221908Z
LAST-MODIFIED:20160712T044823Z
UID:3182-1469041200-1469048400@wnyrosesociety.net
SUMMARY:Awards presentation from the June Rose Show
DESCRIPTION:
URL:https://wnyrosesociety.net/event/monthly-meeting-awards-presentation-from-the-june-rose-show/
LOCATION:St. Stephens-Bethlehem United Church of Christ\, 750 Wehrle Drive\, Williamsville\, NY\, 14225\, United States
CATEGORIES:Monthly Meetings
ATTACH;FMTTYPE=image/jpeg:https://wnyrosesociety.net/wnyrs/wp-content/uploads/2016/07/13434753_1745506438999252_5559811162912606795_n.jpg
END:VEVENT
END:VCALENDAR