BEGIN:VCALENDAR
VERSION:2.0
PRODID:-//Western New York Rose Society - ECPv6.14.2//NONSGML v1.0//EN
CALSCALE:GREGORIAN
METHOD:PUBLISH
X-WR-CALNAME:Western New York Rose Society
X-ORIGINAL-URL:https://wnyrosesociety.net
X-WR-CALDESC:Events for Western New York Rose Society
REFRESH-INTERVAL;VALUE=DURATION:PT1H
X-Robots-Tag:noindex
X-PUBLISHED-TTL:PT1H
BEGIN:VTIMEZONE
TZID:America/New_York
BEGIN:DAYLIGHT
TZOFFSETFROM:-0500
TZOFFSETTO:-0400
TZNAME:EDT
DTSTART:20180311T070000
END:DAYLIGHT
BEGIN:STANDARD
TZOFFSETFROM:-0400
TZOFFSETTO:-0500
TZNAME:EST
DTSTART:20181104T060000
END:STANDARD
BEGIN:DAYLIGHT
TZOFFSETFROM:-0500
TZOFFSETTO:-0400
TZNAME:EDT
DTSTART:20190310T070000
END:DAYLIGHT
BEGIN:STANDARD
TZOFFSETFROM:-0400
TZOFFSETTO:-0500
TZNAME:EST
DTSTART:20191103T060000
END:STANDARD
END:VTIMEZONE
BEGIN:VEVENT
DTSTART;TZID=America/New_York:20190515T190000
DTEND;TZID=America/New_York:20190515T210000
DTSTAMP:20260420T091659
CREATED:20190125T193740Z
LAST-MODIFIED:20190125T193740Z
UID:3567-1557946800-1557954000@wnyrosesociety.net
SUMMARY:2019 May General Meeting
DESCRIPTION:Topics for May include a Silent Auction and short program TBD
URL:https://wnyrosesociety.net/event/2019-may-general-meeting/
LOCATION:St. Stephens-Bethlehem United Church of Christ\, 750 Wehrle Drive\, Williamsville\, NY\, 14225\, United States
END:VEVENT
BEGIN:VEVENT
DTSTART;TZID=America/New_York:20190417T190000
DTEND;TZID=America/New_York:20190417T210000
DTSTAMP:20260420T091659
CREATED:20190125T193343Z
LAST-MODIFIED:20190125T193343Z
UID:3564-1555527600-1555534800@wnyrosesociety.net
SUMMARY:2019 April General Meeting
DESCRIPTION:April topics include Fertilizing and Spraying.
URL:https://wnyrosesociety.net/event/2019-april-general-meeting/
LOCATION:St. Stephens-Bethlehem United Church of Christ\, 750 Wehrle Drive\, Williamsville\, NY\, 14225\, United States
END:VEVENT
BEGIN:VEVENT
DTSTART;VALUE=DATE:20190407
DTEND;VALUE=DATE:20190408
DTSTAMP:20260420T091659
CREATED:20190116T005020Z
LAST-MODIFIED:20190116T005728Z
UID:3543-1554595200-1554681599@wnyrosesociety.net
SUMMARY:Spring Banquet
DESCRIPTION:
URL:https://wnyrosesociety.net/event/spring-banquet-3/
LOCATION:Ilio Dipaolo’s Resturatnt\, 3785 South Park Ave\, Blasdell\, NY\, 14219\, United States
CATEGORIES:Special Events
END:VEVENT
BEGIN:VEVENT
DTSTART;TZID=America/New_York:20190321T100000
DTEND;TZID=America/New_York:20190324T170000
DTSTAMP:20260420T091659
CREATED:20190116T004832Z
LAST-MODIFIED:20190116T005541Z
UID:3541-1553162400-1553446800@wnyrosesociety.net
SUMMARY:Plantasia
DESCRIPTION:Join us at WNY’s Premier Garden And Landscape Show: The Official Sponsor Of Spring\nSee website for times and ticket prices.
URL:https://wnyrosesociety.net/event/3541/
LOCATION:The Fairgrounds Event Center\, 5820 South Park Ave\, Hamburg\, NY\, 14075\, United States
CATEGORIES:Special Events
END:VEVENT
BEGIN:VEVENT
DTSTART;TZID=America/New_York:20190320T190000
DTEND;TZID=America/New_York:20190320T210000
DTSTAMP:20260420T091659
CREATED:20190125T193206Z
LAST-MODIFIED:20190125T193206Z
UID:3562-1553108400-1553115600@wnyrosesociety.net
SUMMARY:2019 March General Meeting
DESCRIPTION:March topics include preparing the garden\, planting your roses and pruning.
URL:https://wnyrosesociety.net/event/2019-march-general-meeting/
LOCATION:St. Stephens-Bethlehem United Church of Christ\, 750 Wehrle Drive\, Williamsville\, NY\, 14225\, United States
END:VEVENT
BEGIN:VEVENT
DTSTART;TZID=America/New_York:20190220T190000
DTEND;TZID=America/New_York:20190220T210000
DTSTAMP:20260420T091659
CREATED:20190116T004039Z
LAST-MODIFIED:20190125T192813Z
UID:3535-1550689200-1550696400@wnyrosesociety.net
SUMMARY:2019 February General Meeting
DESCRIPTION:Join us for a presentation given by Julie Hughes\, Horticulture Instructor at McKinley High School.  Julie will be giving a lesson on terrariums and conducting a “Make it and Take it” workshop. \nCost for those who wish to participate in the workshop will be $10.
URL:https://wnyrosesociety.net/event/february-general-meeting-2/
LOCATION:St. Stephens-Bethlehem United Church of Christ\, 750 Wehrle Drive\, Williamsville\, NY\, 14225\, United States
CATEGORIES:Monthly Meetings
END:VEVENT
BEGIN:VEVENT
DTSTART;TZID=America/New_York:20190206T190000
DTEND;TZID=America/New_York:20190206T210000
DTSTAMP:20260420T091659
CREATED:20190116T004255Z
LAST-MODIFIED:20190206T231119Z
UID:3537-1549479600-1549486800@wnyrosesociety.net
SUMMARY:January Board Meeting
DESCRIPTION:**** Feb 6th meeting cancelled! \n*** 1/30/19  Meeting has been moved to Wednesday February 6th due to weather.  ****
URL:https://wnyrosesociety.net/event/january-board-meeting-2/
LOCATION:TBD
CATEGORIES:Board Meetings
END:VEVENT
BEGIN:VEVENT
DTSTART;TZID=America/New_York:20190116T190000
DTEND;TZID=America/New_York:20190116T210000
DTSTAMP:20260420T091659
CREATED:20190116T003454Z
LAST-MODIFIED:20190125T192747Z
UID:3533-1547665200-1547672400@wnyrosesociety.net
SUMMARY:2019 January General Meeting
DESCRIPTION:Join us for a slide show of the highlights of the ‘NYS District Convention’ that was hosted by WNYRS in September 2018.  Also a slide show presentation of the highlights of Bonnie and John’s recent trip to Rome and Florence.
URL:https://wnyrosesociety.net/event/january-general-meeting-2/
LOCATION:St. Stephens-Bethlehem United Church of Christ\, 750 Wehrle Drive\, Williamsville\, NY\, 14225\, United States
CATEGORIES:Monthly Meetings
END:VEVENT
BEGIN:VEVENT
DTSTART;TZID=America/New_York:20181205T190000
DTEND;TZID=America/New_York:20181205T210000
DTSTAMP:20260420T091659
CREATED:20180128T144954Z
LAST-MODIFIED:20180128T144954Z
UID:3444-1544036400-1544043600@wnyrosesociety.net
SUMMARY:December General Meeting
DESCRIPTION:Holiday Party
URL:https://wnyrosesociety.net/event/december-general-meeting/
LOCATION:NY
CATEGORIES:Monthly Meetings
END:VEVENT
BEGIN:VEVENT
DTSTART;TZID=America/New_York:20181114T190000
DTEND;TZID=America/New_York:20181114T210000
DTSTAMP:20260420T091659
CREATED:20180128T144606Z
LAST-MODIFIED:20180428T164322Z
UID:3442-1542222000-1542229200@wnyrosesociety.net
SUMMARY:November General Meeting
DESCRIPTION:‘Historical Gardening’ presented by Pati Aine Guszynski\, Master Gardeners of WNY
URL:https://wnyrosesociety.net/event/november-general-meeting/
LOCATION:St. Stephens-Bethlehem United Church of Christ\, 750 Wehrle Drive\, Williamsville\, NY\, 14225\, United States
CATEGORIES:Monthly Meetings
END:VEVENT
BEGIN:VEVENT
DTSTART;TZID=America/New_York:20181017T190000
DTEND;TZID=America/New_York:20181017T210000
DTSTAMP:20260420T091659
CREATED:20180128T144431Z
LAST-MODIFIED:20180428T164215Z
UID:3440-1539802800-1539810000@wnyrosesociety.net
SUMMARY:October General Meeting
DESCRIPTION:‘Winterizing your Rose Garden’  presentation given by Mark Yadon
URL:https://wnyrosesociety.net/event/october-general-meeting/
LOCATION:St. Stephens-Bethlehem United Church of Christ\, 750 Wehrle Drive\, Williamsville\, NY\, 14225\, United States
CATEGORIES:Monthly Meetings
END:VEVENT
BEGIN:VEVENT
DTSTART;TZID=America/New_York:20180923T080000
DTEND;TZID=America/New_York:20180923T100000
DTSTAMP:20260420T091659
CREATED:20180131T220915Z
LAST-MODIFIED:20180715T114322Z
UID:3474-1537689600-1537696800@wnyrosesociety.net
SUMMARY:NY District Meeting
DESCRIPTION:
URL:https://wnyrosesociety.net/event/ny-district-meeting/
LOCATION:NY
CATEGORIES:Special Events
END:VEVENT
BEGIN:VEVENT
DTSTART;VALUE=DATE:20180922
DTEND;VALUE=DATE:20180923
DTSTAMP:20260420T091659
CREATED:20180715T115228Z
LAST-MODIFIED:20180916T200640Z
UID:3511-1537574400-1537660799@wnyrosesociety.net
SUMMARY:2018 New York District Rose Show
DESCRIPTION:Please note schedule corrections here \nClick here for the NY District Rose Show Schedule
URL:https://wnyrosesociety.net/event/2018-new-york-district-rose-show/
LOCATION:NY
END:VEVENT
BEGIN:VEVENT
DTSTART;TZID=America/New_York:20180921T090000
DTEND;TZID=America/New_York:20180921T170000
DTSTAMP:20260420T091659
CREATED:20180715T114531Z
LAST-MODIFIED:20180715T115102Z
UID:3508-1537520400-1537549200@wnyrosesociety.net
SUMMARY:Consulting Rosarians School
DESCRIPTION:
URL:https://wnyrosesociety.net/event/consulting-rosarians-school/
LOCATION:NY
CATEGORIES:Special Events
END:VEVENT
BEGIN:VEVENT
DTSTART;VALUE=DATE:20180921
DTEND;VALUE=DATE:20180924
DTSTAMP:20260420T091659
CREATED:20180128T152037Z
LAST-MODIFIED:20180916T200941Z
UID:3459-1537488000-1537747199@wnyrosesociety.net
SUMMARY:2018 NY District Convention
DESCRIPTION:Registration Form \n2018 NY District Convention Frequently Asked Questions \nAdditional information: \nSee Rose Show tab for Show Schedule \n3:00 Saturday  –  John Vanderkruk from Hortico Nursery in Hamilton\, Ontario will speak on sustainability. \nAdditional rooms are available at the Buffalo Hilton Garden @ 10 Lafayette Square across from the Hotel at the Lafayette.  Some rooms available with two beds. \n  \n 
URL:https://wnyrosesociety.net/event/2018-ny-district-convention/
LOCATION:Hotel at the Lafayette\, 391 Washington Street\, Buffalo\, NY\, 14203\, United States
CATEGORIES:Special Events
END:VEVENT
BEGIN:VEVENT
DTSTART;TZID=America/New_York:20180919T190000
DTEND;TZID=America/New_York:20180919T210000
DTSTAMP:20260420T091659
CREATED:20180128T144146Z
LAST-MODIFIED:20180428T164141Z
UID:3438-1537383600-1537390800@wnyrosesociety.net
SUMMARY:September General Meeting
DESCRIPTION:Preparation for the District Rose Convention September 21-23 being held in Buffalo
URL:https://wnyrosesociety.net/event/september-general-meeting/
LOCATION:St. Stephens-Bethlehem United Church of Christ\, 750 Wehrle Drive\, Williamsville\, NY\, 14225\, United States
CATEGORIES:Monthly Meetings
END:VEVENT
BEGIN:VEVENT
DTSTART;TZID=America/New_York:20180815T180000
DTEND;TZID=America/New_York:20180815T200000
DTSTAMP:20260420T091659
CREATED:20180128T143903Z
LAST-MODIFIED:20180131T215537Z
UID:3436-1534356000-1534363200@wnyrosesociety.net
SUMMARY:August General Meeting
DESCRIPTION:Self guided tour of the Delaware Park Rose Gardens after a short business meeting.  Note earlier start time of 6:00PM
URL:https://wnyrosesociety.net/event/august-general-meeting/
LOCATION:Delaware Park Rose Garden\, Meadow Drive\, Buffalo\, NY\, 14214
CATEGORIES:Monthly Meetings
END:VEVENT
BEGIN:VEVENT
DTSTART;TZID=America/New_York:20180804T150000
DTEND;TZID=America/New_York:20180804T200000
DTSTAMP:20260420T091659
CREATED:20180128T151250Z
LAST-MODIFIED:20180131T215441Z
UID:3457-1533394800-1533412800@wnyrosesociety.net
SUMMARY:Annual Picnic
DESCRIPTION:Find us at Elma Meadows shelter #1.  Bring a dish to pass
URL:https://wnyrosesociety.net/event/annual-picnic-2/
LOCATION:Elma Meadows Park\, Rice Rd - Shelter 4\, Elma\, NY\, 14059\, United States
CATEGORIES:Special Events
END:VEVENT
BEGIN:VEVENT
DTSTART;TZID=America/New_York:20180718T190000
DTEND;TZID=America/New_York:20180718T210000
DTSTAMP:20260420T091659
CREATED:20180128T143656Z
LAST-MODIFIED:20180718T105820Z
UID:3434-1531940400-1531947600@wnyrosesociety.net
SUMMARY:July General Meeting
DESCRIPTION:Program for July is a ‘Photography Program’ presented by Darlene Stry. \nRosarian Round Table Q & A \nBring your favorite rose to show off to the group! \n  \n 
URL:https://wnyrosesociety.net/event/july-general-meeting/
LOCATION:St. Stephens-Bethlehem United Church of Christ\, 750 Wehrle Drive\, Williamsville\, NY\, 14225\, United States
CATEGORIES:Monthly Meetings
END:VEVENT
BEGIN:VEVENT
DTSTART;TZID=America/New_York:20180630T100000
DTEND;TZID=America/New_York:20180701T160000
DTSTAMP:20260420T091659
CREATED:20180604T183843Z
LAST-MODIFIED:20180604T183843Z
UID:3494-1530352800-1530460800@wnyrosesociety.net
SUMMARY:Buffalo Style Garden Art Sale at the Botanical Gardens
DESCRIPTION:Look for our booth at the Garden Art Sale.  We will have our wonderful organics for sale. \nStop by and say hi! \n 
URL:https://wnyrosesociety.net/event/buffalo-style-garden-art-sale-botanical-gardens/
LOCATION:Buffalo and Erie County Botanical Gardens\, 2655 South Park Ave\, Buffalo\, NY\, 14218\, United States
END:VEVENT
BEGIN:VEVENT
DTSTART;VALUE=DATE:20180630
DTEND;VALUE=DATE:20180701
DTSTAMP:20260420T091659
CREATED:20180131T220140Z
LAST-MODIFIED:20180131T220755Z
UID:3467-1530316800-1530403199@wnyrosesociety.net
SUMMARY:Rochester Rose Show
DESCRIPTION:
URL:https://wnyrosesociety.net/event/rochester-rose-show/
LOCATION:NY
CATEGORIES:Special Events
END:VEVENT
BEGIN:VEVENT
DTSTART;VALUE=DATE:20180623
DTEND;VALUE=DATE:20180624
DTSTAMP:20260420T091659
CREATED:20180131T220702Z
LAST-MODIFIED:20180131T220702Z
UID:3470-1529712000-1529798399@wnyrosesociety.net
SUMMARY:Syracuse Rose Show
DESCRIPTION:
URL:https://wnyrosesociety.net/event/syracuse-rose-show/
LOCATION:NY
CATEGORIES:Special Events
END:VEVENT
BEGIN:VEVENT
DTSTART;TZID=America/New_York:20180616T130000
DTEND;TZID=America/New_York:20180616T170000
DTSTAMP:20260420T091659
CREATED:20180203T184340Z
LAST-MODIFIED:20180525T020110Z
UID:3478-1529154000-1529168400@wnyrosesociety.net
SUMMARY:CANCELED - WNYRS June Rose Show
DESCRIPTION:CANCELED – With the season stating later than usual the June Rose Show has been cancelled this year.
URL:https://wnyrosesociety.net/event/wnyrs-june-rose-show/
LOCATION:NY
CATEGORIES:Special Events
END:VEVENT
BEGIN:VEVENT
DTSTART;TZID=America/New_York:20180616T080000
DTEND;TZID=America/New_York:20180617T170000
DTSTAMP:20260420T091659
CREATED:20180604T183213Z
LAST-MODIFIED:20180604T183213Z
UID:3492-1529136000-1529254800@wnyrosesociety.net
SUMMARY:Lewiston Gardenfest
DESCRIPTION:Look for us at the Lewiston Gardenfest.  We would love to share our love of roses with you. \nBring your questions. \n 
URL:https://wnyrosesociety.net/event/lewiston-gardenfest/
LOCATION:NY
END:VEVENT
BEGIN:VEVENT
DTSTART;TZID=America/New_York:20180613T190000
DTEND;TZID=America/New_York:20180613T210000
DTSTAMP:20260420T091659
CREATED:20180128T143248Z
LAST-MODIFIED:20180128T143248Z
UID:3431-1528916400-1528923600@wnyrosesociety.net
SUMMARY:June General Meeting
DESCRIPTION:Preparing for a Rose Show presented by Steve Styn\, Western NY Rose Society \nCreating Rose Show Arrangements by Jane Knoeck\, Rochester Rose Society
URL:https://wnyrosesociety.net/event/june-general-meeting/
LOCATION:St. Stephens-Bethlehem United Church of Christ\, 750 Wehrle Drive\, Williamsville\, NY\, 14225\, United States
CATEGORIES:Monthly Meetings
END:VEVENT
BEGIN:VEVENT
DTSTART;TZID=America/New_York:20180516T190000
DTEND;TZID=America/New_York:20180516T210000
DTSTAMP:20260420T091659
CREATED:20180128T142744Z
LAST-MODIFIED:20180428T163823Z
UID:3429-1526497200-1526504400@wnyrosesociety.net
SUMMARY:May General Meeting
DESCRIPTION:‘Maintaining your Rose Garden’ presented by Lynn Chimera \nSilent Auction of Garden and Rose related items
URL:https://wnyrosesociety.net/event/may-general-meeting/
LOCATION:St. Stephens-Bethlehem United Church of Christ\, 750 Wehrle Drive\, Williamsville\, NY\, 14225\, United States
CATEGORIES:Monthly Meetings
END:VEVENT
BEGIN:VEVENT
DTSTART;TZID=America/New_York:20180418T190000
DTEND;TZID=America/New_York:20180418T210000
DTSTAMP:20260420T091659
CREATED:20180128T142622Z
LAST-MODIFIED:20180128T142622Z
UID:3427-1524078000-1524085200@wnyrosesociety.net
SUMMARY:April General Meeting
DESCRIPTION:Meeting topic ‘Fertilizing and Spraying’
URL:https://wnyrosesociety.net/event/april-general-meeting/
LOCATION:NY
CATEGORIES:Monthly Meetings
END:VEVENT
BEGIN:VEVENT
DTSTART;TZID=America/New_York:20180322T100000
DTEND;TZID=America/New_York:20180325T170000
DTSTAMP:20260420T091659
CREATED:20180128T150643Z
LAST-MODIFIED:20180128T150643Z
UID:3452-1521712800-1521997200@wnyrosesociety.net
SUMMARY:Plantasia 2018
DESCRIPTION:WNYRS will have a booth set up at Plantasia.   Stop by and bring your questions!
URL:https://wnyrosesociety.net/event/plantasia-2018/
LOCATION:The Fairgrounds Event Center\, 5820 South Park Ave\, Hamburg\, NY\, 14075\, United States
CATEGORIES:Special Events
END:VEVENT
BEGIN:VEVENT
DTSTART;TZID=America/New_York:20180321T190000
DTEND;TZID=America/New_York:20180321T210000
DTSTAMP:20260420T091659
CREATED:20180128T142435Z
LAST-MODIFIED:20180128T142435Z
UID:3425-1521658800-1521666000@wnyrosesociety.net
SUMMARY:March General Meeting
DESCRIPTION:‘Preparing your garden and planting your roses’ presented by Steve Styn\, WNYRS
URL:https://wnyrosesociety.net/event/march-general-meeting/
LOCATION:St. Stephens-Bethlehem United Church of Christ\, 750 Wehrle Drive\, Williamsville\, NY\, 14225\, United States
CATEGORIES:Monthly Meetings
END:VEVENT
BEGIN:VEVENT
DTSTART;TZID=America/New_York:20180318T120000
DTEND;TZID=America/New_York:20180318T150000
DTSTAMP:20260420T091659
CREATED:20180128T150953Z
LAST-MODIFIED:20180128T151117Z
UID:3454-1521374400-1521385200@wnyrosesociety.net
SUMMARY:Spring Banquet
DESCRIPTION:Tickets can be purchased from Beverly Wright
URL:https://wnyrosesociety.net/event/spring-banquet-2/
LOCATION:Ilio Dipaolo’s Resturatnt\, 3785 South Park Ave\, Blasdell\, NY\, 14219\, United States
CATEGORIES:Special Events
END:VEVENT
END:VCALENDAR