BEGIN:VCALENDAR
VERSION:2.0
PRODID:-//Western New York Rose Society - ECPv6.14.2//NONSGML v1.0//EN
CALSCALE:GREGORIAN
METHOD:PUBLISH
X-WR-CALNAME:Western New York Rose Society
X-ORIGINAL-URL:https://wnyrosesociety.net
X-WR-CALDESC:Events for Western New York Rose Society
REFRESH-INTERVAL;VALUE=DURATION:PT1H
X-Robots-Tag:noindex
X-PUBLISHED-TTL:PT1H
BEGIN:VTIMEZONE
TZID:America/New_York
BEGIN:DAYLIGHT
TZOFFSETFROM:-0500
TZOFFSETTO:-0400
TZNAME:EDT
DTSTART:20180311T070000
END:DAYLIGHT
BEGIN:STANDARD
TZOFFSETFROM:-0400
TZOFFSETTO:-0500
TZNAME:EST
DTSTART:20181104T060000
END:STANDARD
BEGIN:DAYLIGHT
TZOFFSETFROM:-0500
TZOFFSETTO:-0400
TZNAME:EDT
DTSTART:20190310T070000
END:DAYLIGHT
BEGIN:STANDARD
TZOFFSETFROM:-0400
TZOFFSETTO:-0500
TZNAME:EST
DTSTART:20191103T060000
END:STANDARD
BEGIN:DAYLIGHT
TZOFFSETFROM:-0500
TZOFFSETTO:-0400
TZNAME:EDT
DTSTART:20200308T070000
END:DAYLIGHT
BEGIN:STANDARD
TZOFFSETFROM:-0400
TZOFFSETTO:-0500
TZNAME:EST
DTSTART:20201101T060000
END:STANDARD
END:VTIMEZONE
BEGIN:VEVENT
DTSTART;TZID=America/New_York:20200520T190000
DTEND;TZID=America/New_York:20200520T210000
DTSTAMP:20260420T030529
CREATED:20200202T194422Z
LAST-MODIFIED:20200521T162844Z
UID:3616-1590001200-1590008400@wnyrosesociety.net
SUMMARY:Cancelled - 2020 May General Meeting
DESCRIPTION:Jane Knoeck will present a session on Arrangement Exhibiting
URL:https://wnyrosesociety.net/event/2020-may-general-meeting/
LOCATION:St. Stephens-Bethlehem United Church of Christ\, 750 Wehrle Drive\, Williamsville\, NY\, 14225\, United States
CATEGORIES:Monthly Meetings
END:VEVENT
BEGIN:VEVENT
DTSTART;TZID=America/New_York:20200415T190000
DTEND;TZID=America/New_York:20200415T210000
DTSTAMP:20260420T030529
CREATED:20200202T194221Z
LAST-MODIFIED:20200409T005732Z
UID:3614-1586977200-1586984400@wnyrosesociety.net
SUMMARY:CANCELLED - 2020 April General Meeting
DESCRIPTION:Steve and Jim Styn will present a talk on the different types of roses\, e.g. easiest to grow\, form and habits of different roses\, including old roses and mini’s.
URL:https://wnyrosesociety.net/event/2020-april-monthly-meeting/
LOCATION:St. Stephens-Bethlehem United Church of Christ\, 750 Wehrle Drive\, Williamsville\, NY\, 14225\, United States
CATEGORIES:Monthly Meetings
END:VEVENT
BEGIN:VEVENT
DTSTART;TZID=America/New_York:20200329T120000
DTEND;TZID=America/New_York:20200329T150000
DTSTAMP:20260420T030529
CREATED:20200207T005612Z
LAST-MODIFIED:20200317T211904Z
UID:3643-1585483200-1585494000@wnyrosesociety.net
SUMMARY:CANCELLED - Spring Banquet
DESCRIPTION:CANCELLED \nSpring Banquet –  Tickets need to be purchased ahead of time. Contact us for more information.
URL:https://wnyrosesociety.net/event/spring-banquet-4/
LOCATION:Ilio Dipaolo’s Resturatnt\, 3785 South Park Ave\, Blasdell\, NY\, 14219\, United States
END:VEVENT
BEGIN:VEVENT
DTSTART;TZID=America/New_York:20200321T110000
DTEND;TZID=America/New_York:20200321T120000
DTSTAMP:20260420T030529
CREATED:20200207T010600Z
LAST-MODIFIED:20200314T003123Z
UID:3649-1584788400-1584792000@wnyrosesociety.net
SUMMARY:CANCELLED - Plantasia - Growing Roses
DESCRIPTION:This event has been cancelled. \nProgram ‘Growing Roses’ presented by Steve Styn.
URL:https://wnyrosesociety.net/event/plantasia-growing-roses/
LOCATION:The Fairgrounds Event Center\, 5820 South Park Ave\, Hamburg\, NY\, 14075\, United States
END:VEVENT
BEGIN:VEVENT
DTSTART;TZID=America/New_York:20200319T100000
DTEND;TZID=America/New_York:20200322T170000
DTSTAMP:20260420T030529
CREATED:20200207T010138Z
LAST-MODIFIED:20200314T003026Z
UID:3646-1584612000-1584896400@wnyrosesociety.net
SUMMARY:CANCELLED - Plantasia
DESCRIPTION:This event has been cancelled. \nCome and stop by our booth at Plantasia.  Bring your questions and check out our winning fertilizer or just say ‘Hi’! \nThere will be a program ‘Growing Roses’ presented by our own Steve Styn on Friday March 21st at 11:00 am. \nThursday\, March 19 – 10:00am to 9:00pm\nFriday\, March 20 – 10:00am to 9:00pm\nSaturday\, March 21 – 10:00am to 9:00pm\nSunday\, March 22 – 10:00am to 5:00pm \n 
URL:https://wnyrosesociety.net/event/plantasia/
LOCATION:The Fairgrounds Event Center\, 5820 South Park Ave\, Hamburg\, NY\, 14075\, United States
END:VEVENT
BEGIN:VEVENT
DTSTART;TZID=America/New_York:20200318T190000
DTEND;TZID=America/New_York:20200318T210000
DTSTAMP:20260420T030529
CREATED:20200202T193900Z
LAST-MODIFIED:20200314T002850Z
UID:3612-1584558000-1584565200@wnyrosesociety.net
SUMMARY:CANCELLED - 2020 March General Meeting
DESCRIPTION:This meeting has been cancelled. \nPreparing your garden and planting your roses.  Pruning\, fertilizing and spraying your roses.  Presentations given by Steve and Jim Styn.
URL:https://wnyrosesociety.net/event/2020-march-general-meeting/
LOCATION:St. Stephens-Bethlehem United Church of Christ\, 750 Wehrle Drive\, Williamsville\, NY\, 14225\, United States
CATEGORIES:Monthly Meetings
END:VEVENT
BEGIN:VEVENT
DTSTART;TZID=America/New_York:20200219T190000
DTEND;TZID=America/New_York:20200219T190000
DTSTAMP:20260420T030529
CREATED:20200202T193403Z
LAST-MODIFIED:20200207T005113Z
UID:3609-1582138800-1582138800@wnyrosesociety.net
SUMMARY:2020 February General Meeting
DESCRIPTION:Hands on workshop on drying flowers presented by Julie Hughes\, Horticulture Instructor at McKinley HS.
URL:https://wnyrosesociety.net/event/february-general-meeting-3/
LOCATION:St. Stephens-Bethlehem United Church of Christ\, 750 Wehrle Drive\, Williamsville\, NY\, 14225\, United States
CATEGORIES:Monthly Meetings
END:VEVENT
BEGIN:VEVENT
DTSTART;TZID=America/New_York:20191204T190000
DTEND;TZID=America/New_York:20191204T210000
DTSTAMP:20260420T030529
CREATED:20190125T195032Z
LAST-MODIFIED:20190125T195032Z
UID:3581-1575486000-1575493200@wnyrosesociety.net
SUMMARY:2109 Holiday Party
DESCRIPTION:
URL:https://wnyrosesociety.net/event/2109-holiday-party/
LOCATION:St. Stephens-Bethlehem United Church of Christ\, 750 Wehrle Drive\, Williamsville\, NY\, 14225\, United States
END:VEVENT
BEGIN:VEVENT
DTSTART;TZID=America/New_York:20191120T190000
DTEND;TZID=America/New_York:20191120T210000
DTSTAMP:20260420T030529
CREATED:20190125T194945Z
LAST-MODIFIED:20190125T194945Z
UID:3579-1574276400-1574283600@wnyrosesociety.net
SUMMARY:2019 November General Meeting
DESCRIPTION:November topic TBD
URL:https://wnyrosesociety.net/event/2019-november-general-meeting/
LOCATION:St. Stephens-Bethlehem United Church of Christ\, 750 Wehrle Drive\, Williamsville\, NY\, 14225\, United States
END:VEVENT
BEGIN:VEVENT
DTSTART;TZID=America/New_York:20191016T190000
DTEND;TZID=America/New_York:20191016T210000
DTSTAMP:20260420T030529
CREATED:20190125T194845Z
LAST-MODIFIED:20190125T194845Z
UID:3577-1571252400-1571259600@wnyrosesociety.net
SUMMARY:2019 October General Meeting
DESCRIPTION:October topic will be Winterizing your Garden
URL:https://wnyrosesociety.net/event/2019-october-general-meeting/
LOCATION:St. Stephens-Bethlehem United Church of Christ\, 750 Wehrle Drive\, Williamsville\, NY\, 14225\, United States
END:VEVENT
BEGIN:VEVENT
DTSTART;TZID=America/New_York:20190918T190000
DTEND;TZID=America/New_York:20190918T210000
DTSTAMP:20260420T030529
CREATED:20190125T194643Z
LAST-MODIFIED:20190125T194643Z
UID:3575-1568833200-1568840400@wnyrosesociety.net
SUMMARY:2019 September General Meeting
DESCRIPTION:
URL:https://wnyrosesociety.net/event/2019-september-general-meeting/
LOCATION:St. Stephens-Bethlehem United Church of Christ\, 750 Wehrle Drive\, Williamsville\, NY\, 14225\, United States
END:VEVENT
BEGIN:VEVENT
DTSTART;TZID=America/New_York:20190821T180000
DTEND;TZID=America/New_York:20190821T200000
DTSTAMP:20260420T030529
CREATED:20190125T194456Z
LAST-MODIFIED:20190125T194456Z
UID:3573-1566410400-1566417600@wnyrosesociety.net
SUMMARY:2109 August General Meeting
DESCRIPTION:The August meeting will be held in the Delaware Park Rose Garden.  After a brief meeting there will be a self guided tour of the Rose Garden.  Note the meeting will start at 6:00 PM
URL:https://wnyrosesociety.net/event/2109-august-general-meeting/
LOCATION:Delaware Park Rose Garden\, Meadow Drive\, Buffalo\, NY\, 14214
END:VEVENT
BEGIN:VEVENT
DTSTART;VALUE=DATE:20190803
DTEND;VALUE=DATE:20190804
DTSTAMP:20260420T030529
CREATED:20190116T005413Z
LAST-MODIFIED:20190116T005742Z
UID:3547-1564790400-1564876799@wnyrosesociety.net
SUMMARY:Annual Picnic
DESCRIPTION:
URL:https://wnyrosesociety.net/event/annual-picnic-3/
LOCATION:Elma Meadows Park\, Rice Rd - Shelter 4\, Elma\, NY\, 14059\, United States
CATEGORIES:Special Events
END:VEVENT
BEGIN:VEVENT
DTSTART;TZID=America/New_York:20190717T190000
DTEND;TZID=America/New_York:20190717T210000
DTSTAMP:20260420T030529
CREATED:20190125T194156Z
LAST-MODIFIED:20190125T194156Z
UID:3571-1563390000-1563397200@wnyrosesociety.net
SUMMARY:2019 July General Meeting
DESCRIPTION:Topics for the July meeting will be the presentation of awards from the June Rose Show and a Q&A panel.
URL:https://wnyrosesociety.net/event/2019-july-general-meeting/
LOCATION:St. Stephens-Bethlehem United Church of Christ\, 750 Wehrle Drive\, Williamsville\, NY\, 14225\, United States
END:VEVENT
BEGIN:VEVENT
DTSTART;TZID=America/New_York:20190622T130000
DTEND;TZID=America/New_York:20190622T170000
DTSTAMP:20260420T030529
CREATED:20190116T005258Z
LAST-MODIFIED:20190116T005734Z
UID:3545-1561208400-1561222800@wnyrosesociety.net
SUMMARY:WNYRS June Rose Show
DESCRIPTION:
URL:https://wnyrosesociety.net/event/wnyrs-june-rose-show-2/
LOCATION:Walden Galleria\, 1 Walden Galleria\, Buffalo\, NY\, 14225\, United States
CATEGORIES:Special Events
END:VEVENT
BEGIN:VEVENT
DTSTART;TZID=America/New_York:20190619T190000
DTEND;TZID=America/New_York:20190619T210000
DTSTAMP:20260420T030529
CREATED:20190125T194031Z
LAST-MODIFIED:20190125T194031Z
UID:3569-1560970800-1560978000@wnyrosesociety.net
SUMMARY:2019 June General Meeting
DESCRIPTION:Topics for June include Exhibiting Roses for Show and making Arrangements for Show.  The June Rose Show will be June 22nd. \n 
URL:https://wnyrosesociety.net/event/2019-june-general-meeting/
LOCATION:St. Stephens-Bethlehem United Church of Christ\, 750 Wehrle Drive\, Williamsville\, NY\, 14225\, United States
END:VEVENT
BEGIN:VEVENT
DTSTART;TZID=America/New_York:20190515T190000
DTEND;TZID=America/New_York:20190515T210000
DTSTAMP:20260420T030529
CREATED:20190125T193740Z
LAST-MODIFIED:20190125T193740Z
UID:3567-1557946800-1557954000@wnyrosesociety.net
SUMMARY:2019 May General Meeting
DESCRIPTION:Topics for May include a Silent Auction and short program TBD
URL:https://wnyrosesociety.net/event/2019-may-general-meeting/
LOCATION:St. Stephens-Bethlehem United Church of Christ\, 750 Wehrle Drive\, Williamsville\, NY\, 14225\, United States
END:VEVENT
BEGIN:VEVENT
DTSTART;TZID=America/New_York:20190417T190000
DTEND;TZID=America/New_York:20190417T210000
DTSTAMP:20260420T030529
CREATED:20190125T193343Z
LAST-MODIFIED:20190125T193343Z
UID:3564-1555527600-1555534800@wnyrosesociety.net
SUMMARY:2019 April General Meeting
DESCRIPTION:April topics include Fertilizing and Spraying.
URL:https://wnyrosesociety.net/event/2019-april-general-meeting/
LOCATION:St. Stephens-Bethlehem United Church of Christ\, 750 Wehrle Drive\, Williamsville\, NY\, 14225\, United States
END:VEVENT
BEGIN:VEVENT
DTSTART;VALUE=DATE:20190407
DTEND;VALUE=DATE:20190408
DTSTAMP:20260420T030529
CREATED:20190116T005020Z
LAST-MODIFIED:20190116T005728Z
UID:3543-1554595200-1554681599@wnyrosesociety.net
SUMMARY:Spring Banquet
DESCRIPTION:
URL:https://wnyrosesociety.net/event/spring-banquet-3/
LOCATION:Ilio Dipaolo’s Resturatnt\, 3785 South Park Ave\, Blasdell\, NY\, 14219\, United States
CATEGORIES:Special Events
END:VEVENT
BEGIN:VEVENT
DTSTART;TZID=America/New_York:20190321T100000
DTEND;TZID=America/New_York:20190324T170000
DTSTAMP:20260420T030529
CREATED:20190116T004832Z
LAST-MODIFIED:20190116T005541Z
UID:3541-1553162400-1553446800@wnyrosesociety.net
SUMMARY:Plantasia
DESCRIPTION:Join us at WNY’s Premier Garden And Landscape Show: The Official Sponsor Of Spring\nSee website for times and ticket prices.
URL:https://wnyrosesociety.net/event/3541/
LOCATION:The Fairgrounds Event Center\, 5820 South Park Ave\, Hamburg\, NY\, 14075\, United States
CATEGORIES:Special Events
END:VEVENT
BEGIN:VEVENT
DTSTART;TZID=America/New_York:20190320T190000
DTEND;TZID=America/New_York:20190320T210000
DTSTAMP:20260420T030529
CREATED:20190125T193206Z
LAST-MODIFIED:20190125T193206Z
UID:3562-1553108400-1553115600@wnyrosesociety.net
SUMMARY:2019 March General Meeting
DESCRIPTION:March topics include preparing the garden\, planting your roses and pruning.
URL:https://wnyrosesociety.net/event/2019-march-general-meeting/
LOCATION:St. Stephens-Bethlehem United Church of Christ\, 750 Wehrle Drive\, Williamsville\, NY\, 14225\, United States
END:VEVENT
BEGIN:VEVENT
DTSTART;TZID=America/New_York:20190220T190000
DTEND;TZID=America/New_York:20190220T210000
DTSTAMP:20260420T030529
CREATED:20190116T004039Z
LAST-MODIFIED:20190125T192813Z
UID:3535-1550689200-1550696400@wnyrosesociety.net
SUMMARY:2019 February General Meeting
DESCRIPTION:Join us for a presentation given by Julie Hughes\, Horticulture Instructor at McKinley High School.  Julie will be giving a lesson on terrariums and conducting a “Make it and Take it” workshop. \nCost for those who wish to participate in the workshop will be $10.
URL:https://wnyrosesociety.net/event/february-general-meeting-2/
LOCATION:St. Stephens-Bethlehem United Church of Christ\, 750 Wehrle Drive\, Williamsville\, NY\, 14225\, United States
CATEGORIES:Monthly Meetings
END:VEVENT
BEGIN:VEVENT
DTSTART;TZID=America/New_York:20190206T190000
DTEND;TZID=America/New_York:20190206T210000
DTSTAMP:20260420T030529
CREATED:20190116T004255Z
LAST-MODIFIED:20190206T231119Z
UID:3537-1549479600-1549486800@wnyrosesociety.net
SUMMARY:January Board Meeting
DESCRIPTION:**** Feb 6th meeting cancelled! \n*** 1/30/19  Meeting has been moved to Wednesday February 6th due to weather.  ****
URL:https://wnyrosesociety.net/event/january-board-meeting-2/
LOCATION:TBD
CATEGORIES:Board Meetings
END:VEVENT
BEGIN:VEVENT
DTSTART;TZID=America/New_York:20190116T190000
DTEND;TZID=America/New_York:20190116T210000
DTSTAMP:20260420T030529
CREATED:20190116T003454Z
LAST-MODIFIED:20190125T192747Z
UID:3533-1547665200-1547672400@wnyrosesociety.net
SUMMARY:2019 January General Meeting
DESCRIPTION:Join us for a slide show of the highlights of the ‘NYS District Convention’ that was hosted by WNYRS in September 2018.  Also a slide show presentation of the highlights of Bonnie and John’s recent trip to Rome and Florence.
URL:https://wnyrosesociety.net/event/january-general-meeting-2/
LOCATION:St. Stephens-Bethlehem United Church of Christ\, 750 Wehrle Drive\, Williamsville\, NY\, 14225\, United States
CATEGORIES:Monthly Meetings
END:VEVENT
BEGIN:VEVENT
DTSTART;TZID=America/New_York:20181205T190000
DTEND;TZID=America/New_York:20181205T210000
DTSTAMP:20260420T030529
CREATED:20180128T144954Z
LAST-MODIFIED:20180128T144954Z
UID:3444-1544036400-1544043600@wnyrosesociety.net
SUMMARY:December General Meeting
DESCRIPTION:Holiday Party
URL:https://wnyrosesociety.net/event/december-general-meeting/
LOCATION:NY
CATEGORIES:Monthly Meetings
END:VEVENT
BEGIN:VEVENT
DTSTART;TZID=America/New_York:20181114T190000
DTEND;TZID=America/New_York:20181114T210000
DTSTAMP:20260420T030529
CREATED:20180128T144606Z
LAST-MODIFIED:20180428T164322Z
UID:3442-1542222000-1542229200@wnyrosesociety.net
SUMMARY:November General Meeting
DESCRIPTION:‘Historical Gardening’ presented by Pati Aine Guszynski\, Master Gardeners of WNY
URL:https://wnyrosesociety.net/event/november-general-meeting/
LOCATION:St. Stephens-Bethlehem United Church of Christ\, 750 Wehrle Drive\, Williamsville\, NY\, 14225\, United States
CATEGORIES:Monthly Meetings
END:VEVENT
BEGIN:VEVENT
DTSTART;TZID=America/New_York:20181017T190000
DTEND;TZID=America/New_York:20181017T210000
DTSTAMP:20260420T030529
CREATED:20180128T144431Z
LAST-MODIFIED:20180428T164215Z
UID:3440-1539802800-1539810000@wnyrosesociety.net
SUMMARY:October General Meeting
DESCRIPTION:‘Winterizing your Rose Garden’  presentation given by Mark Yadon
URL:https://wnyrosesociety.net/event/october-general-meeting/
LOCATION:St. Stephens-Bethlehem United Church of Christ\, 750 Wehrle Drive\, Williamsville\, NY\, 14225\, United States
CATEGORIES:Monthly Meetings
END:VEVENT
BEGIN:VEVENT
DTSTART;TZID=America/New_York:20180923T080000
DTEND;TZID=America/New_York:20180923T100000
DTSTAMP:20260420T030529
CREATED:20180131T220915Z
LAST-MODIFIED:20180715T114322Z
UID:3474-1537689600-1537696800@wnyrosesociety.net
SUMMARY:NY District Meeting
DESCRIPTION:
URL:https://wnyrosesociety.net/event/ny-district-meeting/
LOCATION:NY
CATEGORIES:Special Events
END:VEVENT
BEGIN:VEVENT
DTSTART;VALUE=DATE:20180922
DTEND;VALUE=DATE:20180923
DTSTAMP:20260420T030529
CREATED:20180715T115228Z
LAST-MODIFIED:20180916T200640Z
UID:3511-1537574400-1537660799@wnyrosesociety.net
SUMMARY:2018 New York District Rose Show
DESCRIPTION:Please note schedule corrections here \nClick here for the NY District Rose Show Schedule
URL:https://wnyrosesociety.net/event/2018-new-york-district-rose-show/
LOCATION:NY
END:VEVENT
BEGIN:VEVENT
DTSTART;TZID=America/New_York:20180921T090000
DTEND;TZID=America/New_York:20180921T170000
DTSTAMP:20260420T030529
CREATED:20180715T114531Z
LAST-MODIFIED:20180715T115102Z
UID:3508-1537520400-1537549200@wnyrosesociety.net
SUMMARY:Consulting Rosarians School
DESCRIPTION:
URL:https://wnyrosesociety.net/event/consulting-rosarians-school/
LOCATION:NY
CATEGORIES:Special Events
END:VEVENT
END:VCALENDAR